BEGIN:VCALENDAR
VERSION:2.0
PRODID:-//L’échappée Romanaise - ECPv6.5.1.4//NONSGML v1.0//EN
CALSCALE:GREGORIAN
METHOD:PUBLISH
X-WR-CALNAME:L’échappée Romanaise
X-ORIGINAL-URL:https://www.l-echappee.art
X-WR-CALDESC:évènements pour L’échappée Romanaise
REFRESH-INTERVAL;VALUE=DURATION:PT1H
X-Robots-Tag:noindex
X-PUBLISHED-TTL:PT1H
BEGIN:VTIMEZONE
TZID:Europe/Paris
BEGIN:DAYLIGHT
TZOFFSETFROM:+0100
TZOFFSETTO:+0200
TZNAME:CEST
DTSTART:20240331T010000
END:DAYLIGHT
BEGIN:STANDARD
TZOFFSETFROM:+0200
TZOFFSETTO:+0100
TZNAME:CET
DTSTART:20241027T010000
END:STANDARD
END:VTIMEZONE
BEGIN:VEVENT
DTSTART;TZID=Europe/Paris:20240707T150000
DTEND;TZID=Europe/Paris:20240707T170000
DTSTAMP:20260424T011051
CREATED:20240605T212428Z
LAST-MODIFIED:20240624T172644Z
UID:324-1720364400-1720371600@www.l-echappee.art
SUMMARY:Initiation au cyanotype
DESCRIPTION:  \nL’atelier d’initiation vous donne toutes les bases de la technique. Tarif : 35€ – Venez à partir de 2 adultes: 30€/ pers. Duo parent/enfant : 50€\nPour réserver : un sms ou appel au 06 27 73 45 38\, ou un mail à atelierlesmirettes@free.fr
URL:https://www.l-echappee.art/atelier/initiation-au-cyanotype-3/
LOCATION:L’Echappée Romanaise\, 3 Pl. Perrot de Verdun\, ROMANS-SUR-ISÈRE\, 26100\, France
END:VEVENT
END:VCALENDAR